BEGIN:VCALENDAR
VERSION:2.0
PRODID:-//Reiterverein Bammental e.V. - ECPv6.15.20//NONSGML v1.0//EN
CALSCALE:GREGORIAN
METHOD:PUBLISH
X-ORIGINAL-URL:https://reiterverein-bammental.de
X-WR-CALDESC:Veranstaltungen für Reiterverein Bammental e.V.
REFRESH-INTERVAL;VALUE=DURATION:PT1H
X-Robots-Tag:noindex
X-PUBLISHED-TTL:PT1H
BEGIN:VTIMEZONE
TZID:Europe/Berlin
BEGIN:DAYLIGHT
TZOFFSETFROM:+0100
TZOFFSETTO:+0200
TZNAME:CEST
DTSTART:20240331T010000
END:DAYLIGHT
BEGIN:STANDARD
TZOFFSETFROM:+0200
TZOFFSETTO:+0100
TZNAME:CET
DTSTART:20241027T010000
END:STANDARD
BEGIN:DAYLIGHT
TZOFFSETFROM:+0100
TZOFFSETTO:+0200
TZNAME:CEST
DTSTART:20250330T010000
END:DAYLIGHT
BEGIN:STANDARD
TZOFFSETFROM:+0200
TZOFFSETTO:+0100
TZNAME:CET
DTSTART:20251026T010000
END:STANDARD
BEGIN:DAYLIGHT
TZOFFSETFROM:+0100
TZOFFSETTO:+0200
TZNAME:CEST
DTSTART:20260329T010000
END:DAYLIGHT
BEGIN:STANDARD
TZOFFSETFROM:+0200
TZOFFSETTO:+0100
TZNAME:CET
DTSTART:20261025T010000
END:STANDARD
END:VTIMEZONE
BEGIN:VEVENT
DTSTART;TZID=Europe/Berlin:20250515T190000
DTEND;TZID=Europe/Berlin:20250515T210000
DTSTAMP:20260423T180536
CREATED:20250515T085420Z
LAST-MODIFIED:20250515T085420Z
UID:292-1747335600-1747342800@reiterverein-bammental.de
SUMMARY:Stammtisch Mai
DESCRIPTION:
URL:https://reiterverein-bammental.de/event/stammtisch-mai-3/
LOCATION:Restaurant Zum Seeblick\, Teichweg 11\, Bammental\, 69245\, Deutschland
CATEGORIES:Stammtische
END:VEVENT
END:VCALENDAR